BEGIN:VCALENDAR
VERSION:2.0
METHOD:PUBLISH
X-WR-CALNAME;VALUE=TEXT:
PRODID:-//Drupal iCal API//EN
BEGIN:VEVENT
UID:wfbb-event-1211
DTSTAMP:20260115T085346Z
DTSTART:20200917T140000Z
DTEND:20200917T160000Z
SUMMARY:InnoMix | Künstliche Intelligenz in der Anwendung
DESCRIPTION:Treten Sie gemeinsam mit Anwender*innen und Expert*innen zum Thema „Künstliche Intelligenz in der Anwendung“ in den Austausch.
LOCATION:BigBlueButton 00000 Online
URL:https://innohub13.de/innomix-kuenstliche-intelligenz-in-der-anwendung/#anmeldeformular
END:VEVENT
END:VCALENDAR
