BEGIN:VCALENDAR
VERSION:2.0
METHOD:PUBLISH
X-WR-CALNAME;VALUE=TEXT:
PRODID:-//Drupal iCal API//EN
BEGIN:VEVENT
UID:wfbb-event-1982
DTSTAMP:20240913T114147Z
DTSTART:20210915T120000Z
DTEND:20210915T160000Z
SUMMARY:Clusterkonferenz Kunststoffe und Chemie 2021
DESCRIPTION:Schon heute vormerken - die Clusterkonferenz als Meeting Point der Branche bringt Unternehmen, Wissenschaft, Verbände und Verwaltung zusammen.
LOCATION:online
URL:
END:VEVENT
END:VCALENDAR
