BEGIN:VCALENDAR
VERSION:2.0
METHOD:PUBLISH
X-WR-CALNAME;VALUE=TEXT:
PRODID:-//Drupal iCal API//EN
BEGIN:VEVENT
UID:wfbb-event-2192
DTSTAMP:20241118T145922Z
DTSTART:20210610T080000Z
DTEND:20210610T090000Z
SUMMARY:Digitale Bau- und Mängeldokumentation
DESCRIPTION:Das Digitalwerk Werder bietet mit diesem Online-Seminar ein neues Weiterbildungsangebot für alle, die nach einer einfachen Möglichkeit suchen, auf Ihrer Baustelle Bautagebuch zu führen.
LOCATION:online
URL:https://digital-werk.org/veranstaltungen/digitale-bau-und-maengeldokumentation-2/
END:VEVENT
END:VCALENDAR
