BEGIN:VCALENDAR
VERSION:2.0
METHOD:PUBLISH
X-WR-CALNAME;VALUE=TEXT:
PRODID:-//Drupal iCal API//EN
BEGIN:VEVENT
UID:wfbb-event-2384
DTSTAMP:20241118T145926Z
DTSTART:20211111T090000Z
DTEND:20211111T161500Z
SUMMARY:2. Lausitzer Fachkonferenz: Klimaneutrale Industrie
DESCRIPTION:Das neu gegründete Cluster „Dekarbonisierung der Industrie” lädt zur 2. Lausitzer Fachkonferenz – Klimaneutrale Industrie am 11. November 2021 ein. 
LOCATION:online
URL:https://www.klimaschutz-industrie.de/aktuelles/veranstaltungen/lausitzer-fachkonferenz/lausitzer-fachkonferenz-2021/
END:VEVENT
END:VCALENDAR
