BEGIN:VCALENDAR
VERSION:2.0
METHOD:PUBLISH
X-WR-CALNAME;VALUE=TEXT:
PRODID:-//Drupal iCal API//EN
BEGIN:VEVENT
UID:wfbb-event-2478
DTSTAMP:20240913T114147Z
DTSTART:20211123T120000Z
DTEND:20211123T131500Z
SUMMARY:Cleantech-Märkte in Asien: Wie steigern Sie Ihren Umsatz?
DESCRIPTION:Im boomenden Asien wächst der Bedarf an sauberer Energie und umweltfreundlichen Technologien besonders stark.
LOCATION:online
URL:https://www.wfbb.de/termine-und-events/onlineseminar-cleantech-maerkte-asien-wie-steigern-sie-ihren-umsatz
END:VEVENT
END:VCALENDAR
