BEGIN:VCALENDAR
VERSION:2.0
METHOD:PUBLISH
X-WR-CALNAME;VALUE=TEXT:
PRODID:-//Drupal iCal API//EN
BEGIN:VEVENT
UID:wfbb-event-3218
DTSTAMP:20240913T114409Z
DTSTART:20230920T070000Z
DTEND:20230921T160000Z
SUMMARY:19. Schwarzheider Kunststoffkolloquium
DESCRIPTION:Forum für die regionale Kunststoffbranche

 
LOCATION:Kulturhaus der BASF Schwarzheide GmbH Schipkauer Str. 1 01987 Schwarzheide
URL:
END:VEVENT
END:VCALENDAR
