BEGIN:VCALENDAR
VERSION:2.0
METHOD:PUBLISH
X-WR-CALNAME;VALUE=TEXT:
PRODID:-//Drupal iCal API//EN
BEGIN:VEVENT
UID:wfbb-event-3672
DTSTAMP:20260115T085322Z
DTSTART:20240321T120000Z
DTEND:20240321T150000Z
SUMMARY:2. Brandenburger Frühlingstreffen Kunststoffe
DESCRIPTION:Wir laden Sie ganz herzlich zum 2. Brandenburger Frühlingstreffen Kunststoffe und öffentlichen KuVBB-Jahresversammlung am 21. März nach Schönborn ein.
LOCATION:Schönborner Armaturen GmbH Finsterwalder Chaussee 17a 03253 Doberlug-Kirchhain (OT Hennersdorf)
URL:
END:VEVENT
END:VCALENDAR
