BEGIN:VCALENDAR
VERSION:2.0
METHOD:PUBLISH
X-WR-CALNAME;VALUE=TEXT:
PRODID:-//Drupal iCal API//EN
BEGIN:VEVENT
UID:wfbb-event-3823
DTSTAMP:20240913T114409Z
DTSTART:20240523T070000Z
DTEND:20240523T143000Z
SUMMARY:24. Brandenburger Energietag 2024
DESCRIPTION:Beim diesjährigen Brandenburger Energietag 2024 erfahren Sie Aktuelles zur energiepolitischen Ausrichtung der Wärmewende von Bund und Land. Es werden innovative Technologien und Best Practices vorgestellt und mit den Energieexperten unter breitem Publikum diskutiert.
LOCATION:BTU Cottbus-Senftenberg Konrad-Wachsmann-Allee 3 03046 Cottbus
URL:https://app.guestoo.de/public/event/8d7d37ed-9364-4024-b6b8-f88e0471b0c8
END:VEVENT
END:VCALENDAR
