BEGIN:VCALENDAR
VERSION:2.0
METHOD:PUBLISH
X-WR-CALNAME;VALUE=TEXT:
PRODID:-//Drupal iCal API//EN
BEGIN:VEVENT
UID:wfbb-event-3972
DTSTAMP:20240913T114409Z
DTSTART:20240924T070000Z
DTEND:20240924T160000Z
SUMMARY:Zukunftskongress Innovationscluster WasserWirtschaft
DESCRIPTION:Die Plattform für zukunftsorientierter Themen in der Wasserwirtschaft.
LOCATION:Kulturweberei Finsterwalde Oscar-Kjellberg-Straße 9 03238 Finsterwalde
URL:https://eveeno.com/358938399
END:VEVENT
END:VCALENDAR
