BEGIN:VCALENDAR
VERSION:2.0
METHOD:PUBLISH
X-WR-CALNAME;VALUE=TEXT:
PRODID:-//Drupal iCal API//EN
BEGIN:VEVENT
UID:wfbb-event-4247
DTSTAMP:20250916T111953Z
DTSTART:20250917T080000Z
DTEND:20250918T120000Z
SUMMARY:20. Schwarzheider Kunststoffkolloquium
DESCRIPTION:Forum für die regionale Kunststoffbranche

 
LOCATION:Kulturhaus der BASF Schwarzheide GmbH Schipkauer Str. 1 01987 Schwarzheide
URL:
END:VEVENT
END:VCALENDAR
