BEGIN:VCALENDAR
VERSION:2.0
METHOD:PUBLISH
X-WR-CALNAME;VALUE=TEXT:
PRODID:-//Drupal iCal API//EN
BEGIN:VEVENT
UID:wfbb-event-4457
DTSTAMP:20260422T104530Z
DTSTART:20260519T084500Z
DTEND:20260519T140000Z
SUMMARY:Schadstoffe im Wasser
DESCRIPTION:Neue EU-Grenzwerte für Schadstoffe im Wasser
LOCATION:Dock³ Lausitz - Kompetenzzentrum am Industriepark Schwarze Pumpe Südstraße 3 02979 Spreetal
URL:https://forms.office.com/Pages/ResponsePage.aspx?id=DDAw-X3JGUC-A63WUKFxxM5GMx8-TWxBtc71oB5u3u1UOVFOSkhQNVVHQUFGRzExVFNLMUcwMUZUUyQlQCN0PWcu
END:VEVENT
END:VCALENDAR
