BEGIN:VCALENDAR
VERSION:2.0
METHOD:PUBLISH
X-WR-CALNAME;VALUE=TEXT:
PRODID:-//Drupal iCal API//EN
BEGIN:VEVENT
UID:wfbb-event-714
DTSTAMP:20240913T114147Z
DTSTART:20200311T080000Z
DTEND:20200311T160000Z
SUMMARY:Wildauer Duromertagung
DESCRIPTION:Im Rahmen der 9. Wildauer Wissenschaftswoche und im zweijährlichen Rhythmus veranstaltet das Forschungsinstitut für Material, Entwicklung und Produktion der TH Wildau gemeinsam mit dem Kunststoffverbund Berlin-Brandenburg (KuVBB e. V.) die Fachtagung zu hochfesten Kunststoffen in der ingenieurtechnischen Anwendung.
LOCATION:TH  Hochschulring 1 15745 Wildau
URL:https://www.th-wildau.de/wissenschaftswoche/
END:VEVENT
END:VCALENDAR
